BEGIN:VCALENDAR
VERSION:2.0
PRODID:-//RIGHTHERE//CALENDARIZE IT V3.2//EN
BEGIN:VTIMEZONE
TZID:America/Chicago
X-MICROSOFT-CDO-TZID:11
BEGIN:STANDARD
DTSTART:20251102T070000
TZOFFSETFROM:-0500
TZOFFSETTO:-0600
TZNAME:CST
END:STANDARD
BEGIN:DAYLIGHT
DTSTART:20260308T080000
TZOFFSETFROM:-0600
TZOFFSETTO:-0500
TZNAME:CDT
END:DAYLIGHT
BEGIN:STANDARD
DTSTART:20261101T070000
TZOFFSETFROM:-0500
TZOFFSETTO:-0600
TZNAME:CST
END:STANDARD
END:VTIMEZONE
BEGIN:VEVENT
UID:1738-events@sacredheartbr.org
DTSTART;TZID=America/Chicago:20180824T080000
DTEND;TZID=America/Chicago:20180824T000000
DTSTAMP;TZID=America/Chicago:20180823T153318
SUMMARY:Endow Women’s Group
RDATE;TZID=America/Chicago:20180907T080000,20180914T080000,20180928T080000,
 20181012T080000,20181102T080000,20181109T080000,20181130T080000,20181207T0
  80000,20181214T080000
URL:https://sacredheartbr.org/events/endow-womens-group/
LOCATION:AC-Gauci Room
END:VEVENT
END:VCALENDAR